BEGIN:VCALENDAR
VERSION:2.0
PRODID:-//Library Market//iCal Export//EN
BEGIN:VEVENT
SUMMARY:Sit &amp; Fit
UID:46419
DTSTAMP:20260424T214700Z
DTSTART:20260723T133000Z
DTEND:20260723T140000Z
LOCATION:Peters Township Public Library, 616 E. McMurray Rd, McMurray, PA 
 15317, United States
ROOM: Reading Room
DESCRIPTION:
URL:https://events.ptlibrary.org/event/sit-fit-46419
END:VEVENT
END:VCALENDAR
