BEGIN:VCALENDAR
VERSION:2.0
PRODID:-//Library Market//iCal Export//EN
BEGIN:VEVENT
SUMMARY:Sit &amp; Fit
UID:46418
DTSTAMP:20260424T202000Z
DTSTART:20260625T133000Z
DTEND:20260625T140000Z
LOCATION:Peters Township Public Library, 616 E. McMurray Rd, McMurray, PA 
 15317, United States
ROOM: Multi-Purpose Room
DESCRIPTION:
URL:https://events.ptlibrary.org/event/sit-fit-46418
END:VEVENT
END:VCALENDAR
