BEGIN:VCALENDAR
VERSION:2.0
PRODID:-//Library Market//iCal Export//EN
BEGIN:VEVENT
SUMMARY:The Baby-Sitters Club: Real Talk and Posters
UID:46052
DTSTAMP:20260419T131500Z
DTSTART:20260617T170000Z
DTEND:20260617T180000Z
LOCATION:Peters Township Public Library, 616 E. McMurray Rd, McMurray, PA 
 15317, United States
ROOM: Teen Room
DESCRIPTION:Celebrating the 40th anniversary of Ann M. Martin&#039;s The B
 aby-Sitters Club, by joining the PTPL Babysitter Club! Become a confident,
  trusted babysitter by joining us as you learn childcare basics, safety sk
 ills, creative activity ideas, and professional tips to start or grow your
  babysitting business. This club will meet multiple times throughout the s
 ummer, come to as many as you can.June 17: Real Talk and Build Your Poster
  (talk to real moms, start your poster to describe you as a babysitter)Jun
 e 29: Meet the Moms and Create Rainy Day Kits (get to meet families after 
 our children&#039;s storytime and work on to-go kits)July 18: Meet the Fam
 ilies and Create Rainy Day Kits (get to meet families and work on to-go ki
 ts)August 22: Babysitter Meet and Greet (families will be invited to stop 
 by and get to meet our Babysitter Club and you get to meet potential new c
 lients!)
URL:https://events.ptlibrary.org/event/baby-sitters-club-real-talk-and-pos
 ters-46052
END:VEVENT
END:VCALENDAR
