BEGIN:VCALENDAR
VERSION:2.0
PRODID:-//Library Market//iCal Export//EN
BEGIN:VEVENT
SUMMARY:Tween Candy Bingo
UID:45322
DTSTAMP:20260419T125100Z
DTSTART:20260701T170000Z
DTEND:20260701T174500Z
LOCATION:Peters Township Public Library, 616 E. McMurray Rd, McMurray, PA 
 15317, United States
ROOM: Teen Room
DESCRIPTION:We are combining the classic bingo game with delicious sweet t
 reats! Join us for some fun, competitive games of bingo with the chances t
 o win tasty treats. Yes, braces friendly candy will also be provided. 
URL:https://events.ptlibrary.org/event/tween-candy-bingo-45322
END:VEVENT
END:VCALENDAR
