BEGIN:VCALENDAR
VERSION:2.0
PRODID:-//Library Market//iCal Export//EN
BEGIN:VEVENT
SUMMARY:Dino Dig Bingo
UID:44918
DTSTAMP:20260419T121200Z
DTSTART:20260615T223000Z
DTEND:20260615T233000Z
LOCATION:Peters Township Public Library, 616 E. McMurray Rd, McMurray, PA 
 15317, United States
ROOM: Multi-Purpose Room
DESCRIPTION:Get ready for Dino Dig BINGO at the PT Library. Join Ms. Linda
  for this family event as she engages you in several rounds of Dino themed
  BINGO. Don&#039;t forget to get ready to shout the magic words BINGO. Fun
  and prizes - guaranteed.Registration is required.
URL:https://events.ptlibrary.org/event/dino-dig-bingo-44918
END:VEVENT
END:VCALENDAR
