BEGIN:VCALENDAR
VERSION:2.0
PRODID:-//Library Market//iCal Export//EN
BEGIN:VEVENT
SUMMARY:Tween Cricut Creations
UID:43315
DTSTAMP:20260419T121200Z
DTSTART:20260615T140000Z
DTEND:20260615T153000Z
LOCATION:Peters Township Public Library, 616 E. McMurray Rd, McMurray, PA 
 15317, United States
ROOM: Makerspace
DESCRIPTION:Get hands-on to create a custom tote bag! In this beginner-fri
 endly program participants will learn the basics of using a Cricut cutting
  machine, designing a project in Cricut Design Space, and applying Infusib
 le Ink to fabric for a vibrant finish that won’t peel or crack.All mater
 ials will be provided.
URL:https://events.ptlibrary.org/event/tween-cricut-creations-43315
END:VEVENT
END:VCALENDAR
